BEGIN:VCALENDAR
VERSION:2.0
PRODID:-//Hämeenlinnan adventtiseurakunta - ECPv6.15.20//NONSGML v1.0//EN
CALSCALE:GREGORIAN
METHOD:PUBLISH
X-WR-CALNAME:Hämeenlinnan adventtiseurakunta
X-ORIGINAL-URL:https://hml.adventist.fi
X-WR-CALDESC:Tapahtumat Hämeenlinnan adventtiseurakunta
REFRESH-INTERVAL;VALUE=DURATION:PT1H
X-Robots-Tag:noindex
X-PUBLISHED-TTL:PT1H
BEGIN:VTIMEZONE
TZID:Europe/Helsinki
BEGIN:DAYLIGHT
TZOFFSETFROM:+0200
TZOFFSETTO:+0300
TZNAME:EEST
DTSTART:20250330T010000
END:DAYLIGHT
BEGIN:STANDARD
TZOFFSETFROM:+0300
TZOFFSETTO:+0200
TZNAME:EET
DTSTART:20251026T010000
END:STANDARD
BEGIN:DAYLIGHT
TZOFFSETFROM:+0200
TZOFFSETTO:+0300
TZNAME:EEST
DTSTART:20260329T010000
END:DAYLIGHT
BEGIN:STANDARD
TZOFFSETFROM:+0300
TZOFFSETTO:+0200
TZNAME:EET
DTSTART:20261025T010000
END:STANDARD
BEGIN:DAYLIGHT
TZOFFSETFROM:+0200
TZOFFSETTO:+0300
TZNAME:EEST
DTSTART:20270328T010000
END:DAYLIGHT
BEGIN:STANDARD
TZOFFSETFROM:+0300
TZOFFSETTO:+0200
TZNAME:EET
DTSTART:20271031T010000
END:STANDARD
END:VTIMEZONE
BEGIN:VEVENT
DTSTART;TZID=Europe/Helsinki:20260414T180000
DTEND;TZID=Europe/Helsinki:20260414T190000
DTSTAMP:20260419T200435
CREATED:20260108T095030Z
LAST-MODIFIED:20260108T115944Z
UID:717-1776189600-1776193200@hml.adventist.fi
SUMMARY:Yhteiskristillinen rukousilta
DESCRIPTION:Yhteiskristillinen rukousilta ti 14.4.2026 klo 18.00 Kristillinen toimi ry\, Vanajantie 10 B-rakennus
URL:https://hml.adventist.fi/tapahtuma/yhteiskristillinen-rukousilta-3/
LOCATION:Hämeenlinnan adventtikirkko\, Tykistötie 13\, Hämeenlinna\, 13100\, Suomi
CATEGORIES:Erikoistapahtuma
ATTACH;FMTTYPE=image/jpeg:https://hml.adventist.fi/wp-content/uploads/2026/01/yhteiskristilliset.jpg
END:VEVENT
BEGIN:VEVENT
DTSTART;TZID=Europe/Helsinki:20260412T150000
DTEND;TZID=Europe/Helsinki:20260412T180000
DTSTAMP:20260419T200435
CREATED:20260108T124335Z
LAST-MODIFIED:20260108T124709Z
UID:886-1776006000-1776016800@hml.adventist.fi
SUMMARY:Diakoniatyön monet kasvot 11.-12.4.
DESCRIPTION:Diakoniatyön monet kasvot -koulutus Hämeenlinnassa 11.-12.4.2026  \nLa 11.4. klo 11.00 – 16.00\, ruokailu välissä Su 12.4. klo 15.00 – 18.00  \nKouluttajana Joel Saarinen  \n\n\n\nJohdanto  \nTämä koulutusohjelma perustuu diakoniatyön kautta myös evankeliointiin. Siksi asian käsittely laajentaa aihepiiriä myös evankeliointiin\, joka sekin kuuluu diakonian piiriin ja sen henkilön parhaaksi toimimiseen joka kohdataan\, niin kuin kirjamellinenkin diakoniatyö. \nYhtäällä ajateltuna olemme toisillemme diakoneja\, vaikka emme olisi siihen tehtään valittuja. Tässä muistiossa kaiken keskiössä on ihmisten kohtaamiseen liittyvien asioiden toteuttaminen meissä asuvan Jeesuksen kautta. \nTarkoitus on välttää koulutuksen vaikutelmaa. Siksi on toivottavaa luonteva vuorovaikutteinen keskustelu ja ennen kaikkea Hengen palo. Tällaisille päiville on tilaus\, tuskin on ketään\, jota eivät olisi koskettaneet ajan tapahtumat ja maailman tilanne. Nyt tarvitaan rohkaisua Jumalan sanan luovuttamattomiin lupauksiin luottaen. Tärkeintä ihmisten kohtaamisessa ei ole se\, kuinka hyvin teoreettisesti osaan asiani\, vaan se\, saako Pyhä Henki ilmentää Jeesuksen asenteita ja mieltä minussa. \n\n\n\n\n\n\nDiakoniatyön monet kasvot \n– Esimerkkejä Raamatun käytännön diakoniasta– Raamatun ihanteita henkilökohtaiseen kanssakäymiseen – Tavoita sydän– Elämää satuttavat kokemukset– Tunneäly– Herää positiivisuuteen!!!– Positiivisuus ihmissuhteissa– Henkilökohtainen diakonia– Taakoitetun ihmisen kohtaaminen– Ihmisten jakautuminen neljään eri luonneryhmään– Miten Jeesus kohtasi ihmisiä– Erilaisia suhtautumisia
URL:https://hml.adventist.fi/tapahtuma/diakoniatyon-monet-kasvot-11-12-4-2/
LOCATION:Hämeenlinnan adventtikirkko\, Tykistötie 13\, Hämeenlinna\, 13100\, Suomi
CATEGORIES:Erikoistapahtuma
ATTACH;FMTTYPE=image/jpeg:https://hml.adventist.fi/wp-content/uploads/2026/01/di.jpg
END:VEVENT
BEGIN:VEVENT
DTSTART;TZID=Europe/Helsinki:20260411T110000
DTEND;TZID=Europe/Helsinki:20260411T160000
DTSTAMP:20260419T200435
CREATED:20260108T124249Z
LAST-MODIFIED:20260108T124531Z
UID:883-1775905200-1775923200@hml.adventist.fi
SUMMARY:Diakoniatyön monet kasvot 11.-12.4.
DESCRIPTION:Diakoniatyön monet kasvot -koulutus Hämeenlinnassa 11.-12.4.2026  \nLa 11.4. klo 11.00 – 16.00\, ruokailu välissä Su 12.4. klo 15.00 – 18.00  \nKouluttajana Joel Saarinen  \n\n\n\nJohdanto  \nTämä koulutusohjelma perustuu diakoniatyön kautta myös evankeliointiin. Siksi asian käsittely laajentaa aihepiiriä myös evankeliointiin\, joka sekin kuuluu diakonian piiriin ja sen henkilön parhaaksi toimimiseen joka kohdataan\, niin kuin kirjamellinenkin diakoniatyö. \nYhtäällä ajateltuna olemme toisillemme diakoneja\, vaikka emme olisi siihen tehtään valittuja. Tässä muistiossa kaiken keskiössä on ihmisten kohtaamiseen liittyvien asioiden toteuttaminen meissä asuvan Jeesuksen kautta. \nTarkoitus on välttää koulutuksen vaikutelmaa. Siksi on toivottavaa luonteva vuorovaikutteinen keskustelu ja ennen kaikkea Hengen palo. Tällaisille päiville on tilaus\, tuskin on ketään\, jota eivät olisi koskettaneet ajan tapahtumat ja maailman tilanne. Nyt tarvitaan rohkaisua Jumalan sanan luovuttamattomiin lupauksiin luottaen. Tärkeintä ihmisten kohtaamisessa ei ole se\, kuinka hyvin teoreettisesti osaan asiani\, vaan se\, saako Pyhä Henki ilmentää Jeesuksen asenteita ja mieltä minussa. \n\n\n\n\n\n\nDiakoniatyön monet kasvot \n– Esimerkkejä Raamatun käytännön diakoniasta– Raamatun ihanteita henkilökohtaiseen kanssakäymiseen – Tavoita sydän– Elämää satuttavat kokemukset– Tunneäly– Herää positiivisuuteen!!!– Positiivisuus ihmissuhteissa– Henkilökohtainen diakonia– Taakoitetun ihmisen kohtaaminen– Ihmisten jakautuminen neljään eri luonneryhmään– Miten Jeesus kohtasi ihmisiä– Erilaisia suhtautumisia
URL:https://hml.adventist.fi/tapahtuma/diakoniatyon-monet-kasvot-11-12-4/
LOCATION:Hämeenlinnan adventtikirkko\, Tykistötie 13\, Hämeenlinna\, 13100\, Suomi
CATEGORIES:Erikoistapahtuma
ATTACH;FMTTYPE=image/jpeg:https://hml.adventist.fi/wp-content/uploads/2026/01/di.jpg
END:VEVENT
BEGIN:VEVENT
DTSTART;TZID=Europe/Helsinki:20260405T180000
DTEND;TZID=Europe/Helsinki:20260405T190000
DTSTAMP:20260419T200435
CREATED:20260108T115521Z
LAST-MODIFIED:20260108T115951Z
UID:869-1775412000-1775415600@hml.adventist.fi
SUMMARY:Hiljaisen viikon tilaisuudet 2.-5.4.
DESCRIPTION:Hiljaisen viikon tilaisuudet Hämeenlinnan adventtiseurakunnassa: \nTo 2.4. klo 18.00 Syytön syytettynä (Herran ehtoollinen)\, Joel Saarinen ja vierailijaPe 3.4. klo 18.00 Anna heille anteeksi\, Joel Saarinen ja vierailijaLa 4.4. klo 11.00 – 13.00 Lepo Jeesuksessa\, Joel Saarinen ja vierailijaSu 5.4. klo 18.00 Kuoleman voittaja\, elämän Herra\, Aimo Helminen
URL:https://hml.adventist.fi/tapahtuma/hiljaisen-viikon-tilaisuudet-2-5-4-3/
LOCATION:Hämeenlinnan adventtikirkko\, Tykistötie 13\, Hämeenlinna\, 13100\, Suomi
CATEGORIES:Erikoistapahtuma
ATTACH;FMTTYPE=image/jpeg:https://hml.adventist.fi/wp-content/uploads/2026/01/paasi.jpg
END:VEVENT
BEGIN:VEVENT
DTSTART;TZID=Europe/Helsinki:20260403T180000
DTEND;TZID=Europe/Helsinki:20260403T190000
DTSTAMP:20260419T200435
CREATED:20260108T115244Z
LAST-MODIFIED:20260108T120030Z
UID:866-1775239200-1775242800@hml.adventist.fi
SUMMARY:Hiljaisen viikon tilaisuudet 2.-5.4.
DESCRIPTION:Hiljaisen viikon tilaisuudet Hämeenlinnan adventtiseurakunnassa: \nTo 2.4. klo 18.00 Syytön syytettynä (Herran ehtoollinen)\, Joel Saarinen ja vierailijaPe 3.4. klo 18.00 Anna heille anteeksi\, Joel Saarinen ja vierailijaLa 4.4. klo 11.00 – 13.00 Lepo Jeesuksessa\, Joel Saarinen ja vierailijaSu 5.4. klo 18.00 Kuoleman voittaja\, elämän Herra\, Aimo Helminen
URL:https://hml.adventist.fi/tapahtuma/hiljaisen-viikon-tilaisuudet-2-5-4-2/
LOCATION:Hämeenlinnan adventtikirkko\, Tykistötie 13\, Hämeenlinna\, 13100\, Suomi
CATEGORIES:Erikoistapahtuma
ATTACH;FMTTYPE=image/jpeg:https://hml.adventist.fi/wp-content/uploads/2026/01/paasi.jpg
END:VEVENT
BEGIN:VEVENT
DTSTART;TZID=Europe/Helsinki:20260402T180000
DTEND;TZID=Europe/Helsinki:20260402T193000
DTSTAMP:20260419T200435
CREATED:20260108T115158Z
LAST-MODIFIED:20260108T120038Z
UID:864-1775152800-1775158200@hml.adventist.fi
SUMMARY:Hiljaisen viikon tilaisuudet 2.-5.4.
DESCRIPTION:Hiljaisen viikon tilaisuudet Hämeenlinnan adventtiseurakunnassa: \nTo 2.4. klo 18.00 Syytön syytettynä (Herran ehtoollinen)\, Joel Saarinen ja vierailijaPe 3.4. klo 18.00 Anna heille anteeksi\, Joel Saarinen ja vierailijaLa 4.4. klo 11.00 – 13.00 Lepo Jeesuksessa\, Joel Saarinen ja vierailijaSu 5.4. klo 18.00 Kuoleman voittaja\, elämän Herra\, Aimo Helminen
URL:https://hml.adventist.fi/tapahtuma/hiljaisen-viikon-tilaisuudet-2-5-4/
LOCATION:Hämeenlinnan adventtikirkko\, Tykistötie 13\, Hämeenlinna\, 13100\, Suomi
CATEGORIES:Erikoistapahtuma
ATTACH;FMTTYPE=image/jpeg:https://hml.adventist.fi/wp-content/uploads/2026/01/paasi.jpg
END:VEVENT
BEGIN:VEVENT
DTSTART;TZID=Europe/Helsinki:20260318T180000
DTEND;TZID=Europe/Helsinki:20260318T200000
DTSTAMP:20260419T200435
CREATED:20260108T112534Z
LAST-MODIFIED:20260108T120057Z
UID:857-1773856800-1773864000@hml.adventist.fi
SUMMARY:Armolahjakoulutus 14.-18.3.
DESCRIPTION:Armolahjakoulutus\, kouluttajana Markku Heinänen \nLa 14.3. klo 11.00 – 16.00Su 15.3. – ke 18.3. klo 18.00 – 20.00
URL:https://hml.adventist.fi/tapahtuma/armolahjakoulutus-14-18-3-5/
LOCATION:Hämeenlinnan adventtikirkko\, Tykistötie 13\, Hämeenlinna\, 13100\, Suomi
CATEGORIES:Erikoistapahtuma
ATTACH;FMTTYPE=image/jpeg:https://hml.adventist.fi/wp-content/uploads/2026/01/armolahja.jpg
END:VEVENT
BEGIN:VEVENT
DTSTART;TZID=Europe/Helsinki:20260317T180000
DTEND;TZID=Europe/Helsinki:20260317T200000
DTSTAMP:20260419T200435
CREATED:20260108T112505Z
LAST-MODIFIED:20260108T120105Z
UID:855-1773770400-1773777600@hml.adventist.fi
SUMMARY:Armolahjakoulutus 14.-18.3.
DESCRIPTION:Armolahjakoulutus\, kouluttajana Markku Heinänen \nLa 14.3. klo 11.00 – 16.00Su 15.3. – ke 18.3. klo 18.00 – 20.00
URL:https://hml.adventist.fi/tapahtuma/armolahjakoulutus-14-18-3-4/
LOCATION:Hämeenlinnan adventtikirkko\, Tykistötie 13\, Hämeenlinna\, 13100\, Suomi
CATEGORIES:Erikoistapahtuma
ATTACH;FMTTYPE=image/jpeg:https://hml.adventist.fi/wp-content/uploads/2026/01/armolahja.jpg
END:VEVENT
BEGIN:VEVENT
DTSTART;TZID=Europe/Helsinki:20260317T180000
DTEND;TZID=Europe/Helsinki:20260317T190000
DTSTAMP:20260419T200435
CREATED:20260108T094901Z
LAST-MODIFIED:20260108T120120Z
UID:715-1773770400-1773774000@hml.adventist.fi
SUMMARY:Yhteiskristillinen rukousilta
DESCRIPTION:Yhteiskristillinen rukousilta ti 17.3.2026 klo 18.00 Vapaaseurakunta\, Sibeliuksenkatu 17
URL:https://hml.adventist.fi/tapahtuma/yhteiskristillinen-rukousilta-2/
LOCATION:Hämeenlinnan adventtikirkko\, Tykistötie 13\, Hämeenlinna\, 13100\, Suomi
CATEGORIES:Erikoistapahtuma
ATTACH;FMTTYPE=image/jpeg:https://hml.adventist.fi/wp-content/uploads/2026/01/yhteiskristilliset.jpg
END:VEVENT
BEGIN:VEVENT
DTSTART;TZID=Europe/Helsinki:20260316T180000
DTEND;TZID=Europe/Helsinki:20260316T200000
DTSTAMP:20260419T200435
CREATED:20260108T112432Z
LAST-MODIFIED:20260108T120112Z
UID:853-1773684000-1773691200@hml.adventist.fi
SUMMARY:Armolahjakoulutus 14.-18.3.
DESCRIPTION:Armolahjakoulutus\, kouluttajana Markku Heinänen \nLa 14.3. klo 11.00 – 16.00Su 15.3. – ke 18.3. klo 18.00 – 20.00
URL:https://hml.adventist.fi/tapahtuma/armolahjakoulutus-14-18-3-3/
LOCATION:Hämeenlinnan adventtikirkko\, Tykistötie 13\, Hämeenlinna\, 13100\, Suomi
CATEGORIES:Erikoistapahtuma
ATTACH;FMTTYPE=image/jpeg:https://hml.adventist.fi/wp-content/uploads/2026/01/armolahja.jpg
END:VEVENT
BEGIN:VEVENT
DTSTART;TZID=Europe/Helsinki:20260315T180000
DTEND;TZID=Europe/Helsinki:20260315T200000
DTSTAMP:20260419T200435
CREATED:20260108T112400Z
LAST-MODIFIED:20260108T120131Z
UID:851-1773597600-1773604800@hml.adventist.fi
SUMMARY:Armolahjakoulutus 14.-18.3.
DESCRIPTION:Armolahjakoulutus\, kouluttajana Markku Heinänen \nLa 14.3. klo 11.00 – 16.00Su 15.3. – ke 18.3. klo 18.00 – 20.00
URL:https://hml.adventist.fi/tapahtuma/armolahjakoulutus-14-18-3-2/
LOCATION:Hämeenlinnan adventtikirkko\, Tykistötie 13\, Hämeenlinna\, 13100\, Suomi
CATEGORIES:Erikoistapahtuma
ATTACH;FMTTYPE=image/jpeg:https://hml.adventist.fi/wp-content/uploads/2026/01/armolahja.jpg
END:VEVENT
BEGIN:VEVENT
DTSTART;TZID=Europe/Helsinki:20260314T110000
DTEND;TZID=Europe/Helsinki:20260314T160000
DTSTAMP:20260419T200435
CREATED:20260108T112314Z
LAST-MODIFIED:20260108T120136Z
UID:848-1773486000-1773504000@hml.adventist.fi
SUMMARY:Armolahjakoulutus 14.-18.3.
DESCRIPTION:Armolahjakoulutus\, kouluttajana Markku Heinänen \nLa 14.3. klo 11.00 – 16.00Su 15.3. – ke 18.3. klo 18.00 – 20.00
URL:https://hml.adventist.fi/tapahtuma/armolahjakoulutus-14-18-3/
LOCATION:Hämeenlinnan adventtikirkko\, Tykistötie 13\, Hämeenlinna\, 13100\, Suomi
CATEGORIES:Erikoistapahtuma
ATTACH;FMTTYPE=image/jpeg:https://hml.adventist.fi/wp-content/uploads/2026/01/armolahja.jpg
END:VEVENT
BEGIN:VEVENT
DTSTART;TZID=Europe/Helsinki:20260214T180000
DTEND;TZID=Europe/Helsinki:20260214T193000
DTSTAMP:20260419T200436
CREATED:20260108T113655Z
LAST-MODIFIED:20260108T120145Z
UID:859-1771092000-1771097400@hml.adventist.fi
SUMMARY:Muista ystävää -illanvietto
DESCRIPTION:La 14.2.2026 klo 18.00 ystävänpäivän illanvietto. \nYhdessä ystävinä mukavan ohjelman ja tarjoilun parissa. Kannattaa tulla. \nTervetuloa!
URL:https://hml.adventist.fi/tapahtuma/muista-ystavaa-illanvietto/
LOCATION:Hämeenlinnan adventtikirkko\, Tykistötie 13\, Hämeenlinna\, 13100\, Suomi
CATEGORIES:Erikoistapahtuma
ATTACH;FMTTYPE=image/jpeg:https://hml.adventist.fi/wp-content/uploads/2026/01/ystava.jpg
END:VEVENT
BEGIN:VEVENT
DTSTART;TZID=Europe/Helsinki:20260210T180000
DTEND;TZID=Europe/Helsinki:20260210T190000
DTSTAMP:20260419T200436
CREATED:20260108T094740Z
LAST-MODIFIED:20260108T120154Z
UID:712-1770746400-1770750000@hml.adventist.fi
SUMMARY:Yhteiskristillinen rukousilta
DESCRIPTION:Yhteiskristillinen rukousilta ti 10.2.2026 klo 18.00 Pelastusarmeija\, Kasarmikatu 18
URL:https://hml.adventist.fi/tapahtuma/yhteiskristillinen-rukousilta/
LOCATION:Hämeenlinnan adventtikirkko\, Tykistötie 13\, Hämeenlinna\, 13100\, Suomi
CATEGORIES:Erikoistapahtuma
ATTACH;FMTTYPE=image/jpeg:https://hml.adventist.fi/wp-content/uploads/2026/01/yhteiskristilliset.jpg
END:VEVENT
BEGIN:VEVENT
DTSTART;TZID=Europe/Helsinki:20260118T180000
DTEND;TZID=Europe/Helsinki:20260118T190000
DTSTAMP:20260419T200436
CREATED:20260108T103840Z
LAST-MODIFIED:20260108T120214Z
UID:824-1768759200-1768762800@hml.adventist.fi
SUMMARY:Kristittyjen yhteisen rukousviikon tilaisuus
DESCRIPTION:Kristittyjen yhteisen rukousviikon tilaisuus su 18.1.2026 klo 18.00 Ev.lut. isossa kirkossa \nRukousviikon teema: yksi ruumis\, yksi henki\, yksi toivo
URL:https://hml.adventist.fi/tapahtuma/kristittyjen-yhteisen-rukousviikon-tilaisuus/
LOCATION:Hämeenlinnan adventtikirkko\, Tykistötie 13\, Hämeenlinna\, 13100\, Suomi
CATEGORIES:Erikoistapahtuma
ATTACH;FMTTYPE=image/jpeg:https://hml.adventist.fi/wp-content/uploads/2026/01/yhteiskristilliset.jpg
END:VEVENT
BEGIN:VEVENT
DTSTART;TZID=Europe/Helsinki:20260116T180000
DTEND;TZID=Europe/Helsinki:20260116T190000
DTSTAMP:20260419T200436
CREATED:20260108T081443Z
LAST-MODIFIED:20260108T120231Z
UID:698-1768586400-1768590000@hml.adventist.fi
SUMMARY:10 rukouksen päivää Zoomissa
DESCRIPTION:10 RUKOUKSEN PÄIVÄÄ 7.-16.1.2026 Zoomissa ja YouTubessa
URL:https://hml.adventist.fi/tapahtuma/10-rukouksen-paivaa-zoomissa-8/
LOCATION:Hämeenlinnan adventtikirkko\, Tykistötie 13\, Hämeenlinna\, 13100\, Suomi
CATEGORIES:Erikoistapahtuma
ATTACH;FMTTYPE=image/jpeg:https://hml.adventist.fi/wp-content/uploads/2026/01/10rpSUOMI2026.jpg
END:VEVENT
BEGIN:VEVENT
DTSTART;TZID=Europe/Helsinki:20260115T180000
DTEND;TZID=Europe/Helsinki:20260115T190000
DTSTAMP:20260419T200436
CREATED:20260108T081406Z
LAST-MODIFIED:20260108T120239Z
UID:696-1768500000-1768503600@hml.adventist.fi
SUMMARY:10 rukouksen päivää Zoomissa
DESCRIPTION:10 RUKOUKSEN PÄIVÄÄ 7.-16.1.2026 Zoomissa ja YouTubessa
URL:https://hml.adventist.fi/tapahtuma/10-rukouksen-paivaa-zoomissa-7/
LOCATION:Hämeenlinnan adventtikirkko\, Tykistötie 13\, Hämeenlinna\, 13100\, Suomi
CATEGORIES:Erikoistapahtuma
ATTACH;FMTTYPE=image/jpeg:https://hml.adventist.fi/wp-content/uploads/2026/01/10rpSUOMI2026.jpg
END:VEVENT
BEGIN:VEVENT
DTSTART;TZID=Europe/Helsinki:20260115T160000
DTEND;TZID=Europe/Helsinki:20260115T170000
DTSTAMP:20260419T200436
CREATED:20260108T090341Z
LAST-MODIFIED:20260108T120255Z
UID:703-1768492800-1768496400@hml.adventist.fi
SUMMARY:10 rukouksen päivää kasvotusten
DESCRIPTION:Joel Saarinen \nTämä tilaisuus seurakunnassa\, Tykistötie 13\, 13100 Hämeenlinna
URL:https://hml.adventist.fi/tapahtuma/10-rukouksen-paivaa-kasvotusten-2/
LOCATION:Hämeenlinnan adventtikirkko\, Tykistötie 13\, Hämeenlinna\, 13100\, Suomi
CATEGORIES:Erikoistapahtuma
ATTACH;FMTTYPE=image/jpeg:https://hml.adventist.fi/wp-content/uploads/2026/01/10rpSUOMI2026.jpg
END:VEVENT
BEGIN:VEVENT
DTSTART;TZID=Europe/Helsinki:20260114T180000
DTEND;TZID=Europe/Helsinki:20260114T190000
DTSTAMP:20260419T200436
CREATED:20260108T080459Z
LAST-MODIFIED:20260108T120319Z
UID:694-1768413600-1768417200@hml.adventist.fi
SUMMARY:10 rukouksen päivää Zoomissa
DESCRIPTION:10 RUKOUKSEN PÄIVÄÄ 7.-16.1.2026 Zoomissa ja YouTubessa
URL:https://hml.adventist.fi/tapahtuma/10-rukouksen-paivaa-zoomissa-6/
LOCATION:Hämeenlinnan adventtikirkko\, Tykistötie 13\, Hämeenlinna\, 13100\, Suomi
CATEGORIES:Erikoistapahtuma
ATTACH;FMTTYPE=image/jpeg:https://hml.adventist.fi/wp-content/uploads/2026/01/10rpSUOMI2026.jpg
END:VEVENT
BEGIN:VEVENT
DTSTART;TZID=Europe/Helsinki:20260113T180000
DTEND;TZID=Europe/Helsinki:20260113T190000
DTSTAMP:20260419T200436
CREATED:20260108T080343Z
LAST-MODIFIED:20260108T120328Z
UID:692-1768327200-1768330800@hml.adventist.fi
SUMMARY:10 rukouksen päivää Zoomissa
DESCRIPTION:10 RUKOUKSEN PÄIVÄÄ 7.-16.1.2026 Zoomissa ja YouTubessa
URL:https://hml.adventist.fi/tapahtuma/10-rukouksen-paivaa-zoomissa-5/
LOCATION:Hämeenlinnan adventtikirkko\, Tykistötie 13\, Hämeenlinna\, 13100\, Suomi
CATEGORIES:Erikoistapahtuma
ATTACH;FMTTYPE=image/jpeg:https://hml.adventist.fi/wp-content/uploads/2026/01/10rpSUOMI2026.jpg
END:VEVENT
BEGIN:VEVENT
DTSTART;TZID=Europe/Helsinki:20260113T160000
DTEND;TZID=Europe/Helsinki:20260113T170000
DTSTAMP:20260419T200436
CREATED:20260108T090010Z
LAST-MODIFIED:20260108T120340Z
UID:700-1768320000-1768323600@hml.adventist.fi
SUMMARY:10 rukouksen päivää kasvotusten
DESCRIPTION:Joel Saarinen \nTämä tilaisuus seurakunnassa\, Tykistötie 13\, 13100 Hämeenlinna
URL:https://hml.adventist.fi/tapahtuma/10-rukouksen-paivaa-kasvotusten/
LOCATION:Hämeenlinnan adventtikirkko\, Tykistötie 13\, Hämeenlinna\, 13100\, Suomi
CATEGORIES:Erikoistapahtuma
ATTACH;FMTTYPE=image/jpeg:https://hml.adventist.fi/wp-content/uploads/2026/01/10rpSUOMI2026.jpg
END:VEVENT
BEGIN:VEVENT
DTSTART;TZID=Europe/Helsinki:20260113T090000
DTEND;TZID=Europe/Helsinki:20260113T110000
DTSTAMP:20260419T200436
CREATED:20260108T104139Z
LAST-MODIFIED:20260108T120347Z
UID:826-1768294800-1768302000@hml.adventist.fi
SUMMARY:Hämeen parhaaksi -rukoushetki ja tiimikokous
DESCRIPTION:Adventtikirkolla Hämeen parhaaksi -rukoushetki\, sen jälkeen Hämeen parhaaksi -tiimin kokous
URL:https://hml.adventist.fi/tapahtuma/hameen-parhaaksi-rukoushetki-ja-tiimikokous/
LOCATION:Hämeenlinnan adventtikirkko\, Tykistötie 13\, Hämeenlinna\, 13100\, Suomi
CATEGORIES:Erikoistapahtuma
ATTACH;FMTTYPE=image/jpeg:https://hml.adventist.fi/wp-content/uploads/2026/01/yhteiskristilliset.jpg
END:VEVENT
BEGIN:VEVENT
DTSTART;TZID=Europe/Helsinki:20260112T180000
DTEND;TZID=Europe/Helsinki:20260112T190000
DTSTAMP:20260419T200436
CREATED:20260108T080034Z
LAST-MODIFIED:20260108T120359Z
UID:690-1768240800-1768244400@hml.adventist.fi
SUMMARY:10 rukouksen päivää Zoomissa
DESCRIPTION:10 RUKOUKSEN PÄIVÄÄ 7.-16.1.2026 Zoomissa ja YouTubessa
URL:https://hml.adventist.fi/tapahtuma/10-rukouksen-paivaa-zoomissa-4/
LOCATION:Hämeenlinnan adventtikirkko\, Tykistötie 13\, Hämeenlinna\, 13100\, Suomi
CATEGORIES:Erikoistapahtuma
ATTACH;FMTTYPE=image/jpeg:https://hml.adventist.fi/wp-content/uploads/2026/01/10rpSUOMI2026.jpg
END:VEVENT
BEGIN:VEVENT
DTSTART;TZID=Europe/Helsinki:20260111T180000
DTEND;TZID=Europe/Helsinki:20260111T190000
DTSTAMP:20260419T200436
CREATED:20260108T075833Z
LAST-MODIFIED:20260108T120408Z
UID:688-1768154400-1768158000@hml.adventist.fi
SUMMARY:10 rukouksen päivää Zoomissa
DESCRIPTION:10 RUKOUKSEN PÄIVÄÄ 7.-16.1.2026 Zoomissa ja YouTubessa
URL:https://hml.adventist.fi/tapahtuma/10-rukouksen-paivaa-zoomissa-3/
LOCATION:Hämeenlinnan adventtikirkko\, Tykistötie 13\, Hämeenlinna\, 13100\, Suomi
CATEGORIES:Erikoistapahtuma
ATTACH;FMTTYPE=image/jpeg:https://hml.adventist.fi/wp-content/uploads/2026/01/10rpSUOMI2026.jpg
END:VEVENT
BEGIN:VEVENT
DTSTART;TZID=Europe/Helsinki:20260110T180000
DTEND;TZID=Europe/Helsinki:20260110T190000
DTSTAMP:20260419T200436
CREATED:20260108T075625Z
LAST-MODIFIED:20260108T120418Z
UID:686-1768068000-1768071600@hml.adventist.fi
SUMMARY:10 rukouksen päivää Zoomissa
DESCRIPTION:10 RUKOUKSEN PÄIVÄÄ 7.-16.1.2026 Zoomissa ja YouTubessa
URL:https://hml.adventist.fi/tapahtuma/10-rukouksen-paivaa-zoomissa-2/
LOCATION:Hämeenlinnan adventtikirkko\, Tykistötie 13\, Hämeenlinna\, 13100\, Suomi
CATEGORIES:Erikoistapahtuma
ATTACH;FMTTYPE=image/jpeg:https://hml.adventist.fi/wp-content/uploads/2026/01/10rpSUOMI2026.jpg
END:VEVENT
BEGIN:VEVENT
DTSTART;TZID=Europe/Helsinki:20260109T180000
DTEND;TZID=Europe/Helsinki:20260109T190000
DTSTAMP:20260419T200436
CREATED:20260108T075603Z
LAST-MODIFIED:20260108T120427Z
UID:684-1767981600-1767985200@hml.adventist.fi
SUMMARY:10 rukouksen päivää Zoomissa
DESCRIPTION:10 RUKOUKSEN PÄIVÄÄ 7.-16.1.2026 Zoomissa ja YouTubessa
URL:https://hml.adventist.fi/tapahtuma/10-rukouksen-paivaa-zoomissa/
LOCATION:Hämeenlinnan adventtikirkko\, Tykistötie 13\, Hämeenlinna\, 13100\, Suomi
CATEGORIES:Erikoistapahtuma
ATTACH;FMTTYPE=image/jpeg:https://hml.adventist.fi/wp-content/uploads/2026/01/10rpSUOMI2026.jpg
END:VEVENT
BEGIN:VEVENT
DTSTART;TZID=Europe/Helsinki:20260108T180000
DTEND;TZID=Europe/Helsinki:20260108T190000
DTSTAMP:20260419T200436
CREATED:20260108T075347Z
LAST-MODIFIED:20260108T120435Z
UID:679-1767895200-1767898800@hml.adventist.fi
SUMMARY:10 rukouksen päivää Zoomissa
DESCRIPTION:10 RUKOUKSEN PÄIVÄÄ 7.-16.1.2026 Zoomissa ja YouTubessa
URL:https://hml.adventist.fi/tapahtuma/yhteysilta-4/
LOCATION:Hämeenlinnan adventtikirkko\, Tykistötie 13\, Hämeenlinna\, 13100\, Suomi
CATEGORIES:Erikoistapahtuma
ATTACH;FMTTYPE=image/jpeg:https://hml.adventist.fi/wp-content/uploads/2026/01/10rpSUOMI2026.jpg
END:VEVENT
END:VCALENDAR