BEGIN:VCALENDAR
VERSION:2.0
PRODID:-//Hämeenlinnan adventtiseurakunta - ECPv6.15.20//NONSGML v1.0//EN
CALSCALE:GREGORIAN
METHOD:PUBLISH
X-ORIGINAL-URL:https://hml.adventist.fi
X-WR-CALDESC:Tapahtumat Hämeenlinnan adventtiseurakunta
REFRESH-INTERVAL;VALUE=DURATION:PT1H
X-Robots-Tag:noindex
X-PUBLISHED-TTL:PT1H
BEGIN:VTIMEZONE
TZID:Europe/Helsinki
BEGIN:DAYLIGHT
TZOFFSETFROM:+0200
TZOFFSETTO:+0300
TZNAME:EEST
DTSTART:20250330T010000
END:DAYLIGHT
BEGIN:STANDARD
TZOFFSETFROM:+0300
TZOFFSETTO:+0200
TZNAME:EET
DTSTART:20251026T010000
END:STANDARD
BEGIN:DAYLIGHT
TZOFFSETFROM:+0200
TZOFFSETTO:+0300
TZNAME:EEST
DTSTART:20260329T010000
END:DAYLIGHT
BEGIN:STANDARD
TZOFFSETFROM:+0300
TZOFFSETTO:+0200
TZNAME:EET
DTSTART:20261025T010000
END:STANDARD
BEGIN:DAYLIGHT
TZOFFSETFROM:+0200
TZOFFSETTO:+0300
TZNAME:EEST
DTSTART:20270328T010000
END:DAYLIGHT
BEGIN:STANDARD
TZOFFSETFROM:+0300
TZOFFSETTO:+0200
TZNAME:EET
DTSTART:20271031T010000
END:STANDARD
END:VTIMEZONE
BEGIN:VEVENT
DTSTART;TZID=Europe/Helsinki:20260401T164500
DTEND;TZID=Europe/Helsinki:20260401T174500
DTSTAMP:20260419T214035
CREATED:20260108T103112Z
LAST-MODIFIED:20260108T103113Z
UID:806-1775061900-1775065500@hml.adventist.fi
SUMMARY:Rukouskokous
DESCRIPTION:Rukouskokous keskiviikkoisin klo 16.45 \nTervetuloa! T. Anna Mantere
URL:https://hml.adventist.fi/tapahtuma/rukouskokous-11/
LOCATION:Hämeenlinnan adventtikirkko\, Tykistötie 13\, Hämeenlinna\, 13100\, Suomi
CATEGORIES:Viikottain
ATTACH;FMTTYPE=image/jpeg:https://hml.adventist.fi/wp-content/uploads/2026/01/rukouskokous.jpg
END:VEVENT
BEGIN:VEVENT
DTSTART;TZID=Europe/Helsinki:20260331T160000
DTEND;TZID=Europe/Helsinki:20260331T170000
DTSTAMP:20260419T214035
CREATED:20260108T095642Z
LAST-MODIFIED:20260108T095642Z
UID:734-1774972800-1774976400@hml.adventist.fi
SUMMARY:Yhteysilta
DESCRIPTION:Yhteysilta tiistaisin klo 16.00\, tavoitteena rukousta ja rakkautta. \nTervetuloa! T. Marja Reinikka
URL:https://hml.adventist.fi/tapahtuma/yhteysilta-11/
LOCATION:Hämeenlinnan adventtikirkko\, Tykistötie 13\, Hämeenlinna\, 13100\, Suomi
CATEGORIES:Viikottain
ATTACH;FMTTYPE=image/jpeg:https://hml.adventist.fi/wp-content/uploads/2023/06/yhteysilta.jpg
END:VEVENT
BEGIN:VEVENT
DTSTART;TZID=Europe/Helsinki:20260328T110000
DTEND;TZID=Europe/Helsinki:20260328T130000
DTSTAMP:20260419T214035
CREATED:20260108T100817Z
LAST-MODIFIED:20260108T114217Z
UID:764-1774695600-1774702800@hml.adventist.fi
SUMMARY:Jumalanpalvelus - ADRA Finland mukana
DESCRIPTION:Jumalanpalvelus\, rukousta\, ylistystä ja puhe Raamatusta \nApua ja lohtua tarvitseville.Tule ja kuule ADRA:n tuoreimmat suunnitelmat ja uutiset toiminnasta. \nLämpimästi tervetuloa!
URL:https://hml.adventist.fi/tapahtuma/jumalanpalvelus-12/
LOCATION:Hämeenlinnan adventtikirkko\, Tykistötie 13\, Hämeenlinna\, 13100\, Suomi
CATEGORIES:Viikottain
ATTACH;FMTTYPE=image/jpeg:https://hml.adventist.fi/wp-content/uploads/2022/09/rtjp-kirkko.jpg
END:VEVENT
BEGIN:VEVENT
DTSTART;TZID=Europe/Helsinki:20260325T164500
DTEND;TZID=Europe/Helsinki:20260325T174500
DTSTAMP:20260419T214035
CREATED:20260108T103043Z
LAST-MODIFIED:20260108T103043Z
UID:804-1774457100-1774460700@hml.adventist.fi
SUMMARY:Rukouskokous
DESCRIPTION:Rukouskokous keskiviikkoisin klo 16.45 \nTervetuloa! T. Anna Mantere
URL:https://hml.adventist.fi/tapahtuma/rukouskokous-10/
LOCATION:Hämeenlinnan adventtikirkko\, Tykistötie 13\, Hämeenlinna\, 13100\, Suomi
CATEGORIES:Viikottain
ATTACH;FMTTYPE=image/jpeg:https://hml.adventist.fi/wp-content/uploads/2026/01/rukouskokous.jpg
END:VEVENT
BEGIN:VEVENT
DTSTART;TZID=Europe/Helsinki:20260324T160000
DTEND;TZID=Europe/Helsinki:20260324T170000
DTSTAMP:20260419T214035
CREATED:20260108T095610Z
LAST-MODIFIED:20260108T095610Z
UID:732-1774368000-1774371600@hml.adventist.fi
SUMMARY:Yhteysilta
DESCRIPTION:Yhteysilta tiistaisin klo 16.00\, tavoitteena rukousta ja rakkautta. \nTervetuloa! T. Marja Reinikka
URL:https://hml.adventist.fi/tapahtuma/yhteysilta-10/
LOCATION:Hämeenlinnan adventtikirkko\, Tykistötie 13\, Hämeenlinna\, 13100\, Suomi
CATEGORIES:Viikottain
ATTACH;FMTTYPE=image/jpeg:https://hml.adventist.fi/wp-content/uploads/2023/06/yhteysilta.jpg
END:VEVENT
BEGIN:VEVENT
DTSTART;TZID=Europe/Helsinki:20260321T110000
DTEND;TZID=Europe/Helsinki:20260321T130000
DTSTAMP:20260419T214035
CREATED:20260108T100749Z
LAST-MODIFIED:20260108T100749Z
UID:762-1774090800-1774098000@hml.adventist.fi
SUMMARY:Jumalanpalvelus
DESCRIPTION:Jumalanpalvelus\, rukousta\, ylistystä ja puhe Raamatusta
URL:https://hml.adventist.fi/tapahtuma/jumalanpalvelus-11/
LOCATION:Hämeenlinnan adventtikirkko\, Tykistötie 13\, Hämeenlinna\, 13100\, Suomi
CATEGORIES:Viikottain
ATTACH;FMTTYPE=image/jpeg:https://hml.adventist.fi/wp-content/uploads/2022/09/rtjp-kirkko.jpg
END:VEVENT
BEGIN:VEVENT
DTSTART;TZID=Europe/Helsinki:20260318T180000
DTEND;TZID=Europe/Helsinki:20260318T200000
DTSTAMP:20260419T214035
CREATED:20260108T112534Z
LAST-MODIFIED:20260108T120057Z
UID:857-1773856800-1773864000@hml.adventist.fi
SUMMARY:Armolahjakoulutus 14.-18.3.
DESCRIPTION:Armolahjakoulutus\, kouluttajana Markku Heinänen \nLa 14.3. klo 11.00 – 16.00Su 15.3. – ke 18.3. klo 18.00 – 20.00
URL:https://hml.adventist.fi/tapahtuma/armolahjakoulutus-14-18-3-5/
LOCATION:Hämeenlinnan adventtikirkko\, Tykistötie 13\, Hämeenlinna\, 13100\, Suomi
CATEGORIES:Erikoistapahtuma
ATTACH;FMTTYPE=image/jpeg:https://hml.adventist.fi/wp-content/uploads/2026/01/armolahja.jpg
END:VEVENT
BEGIN:VEVENT
DTSTART;TZID=Europe/Helsinki:20260318T164500
DTEND;TZID=Europe/Helsinki:20260318T174500
DTSTAMP:20260419T214035
CREATED:20260108T103011Z
LAST-MODIFIED:20260108T103011Z
UID:802-1773852300-1773855900@hml.adventist.fi
SUMMARY:Rukouskokous
DESCRIPTION:Rukouskokous keskiviikkoisin klo 16.45 \nTervetuloa! T. Anna Mantere
URL:https://hml.adventist.fi/tapahtuma/rukouskokous-9/
LOCATION:Hämeenlinnan adventtikirkko\, Tykistötie 13\, Hämeenlinna\, 13100\, Suomi
CATEGORIES:Viikottain
ATTACH;FMTTYPE=image/jpeg:https://hml.adventist.fi/wp-content/uploads/2026/01/rukouskokous.jpg
END:VEVENT
BEGIN:VEVENT
DTSTART;TZID=Europe/Helsinki:20260317T180000
DTEND;TZID=Europe/Helsinki:20260317T200000
DTSTAMP:20260419T214035
CREATED:20260108T112505Z
LAST-MODIFIED:20260108T120105Z
UID:855-1773770400-1773777600@hml.adventist.fi
SUMMARY:Armolahjakoulutus 14.-18.3.
DESCRIPTION:Armolahjakoulutus\, kouluttajana Markku Heinänen \nLa 14.3. klo 11.00 – 16.00Su 15.3. – ke 18.3. klo 18.00 – 20.00
URL:https://hml.adventist.fi/tapahtuma/armolahjakoulutus-14-18-3-4/
LOCATION:Hämeenlinnan adventtikirkko\, Tykistötie 13\, Hämeenlinna\, 13100\, Suomi
CATEGORIES:Erikoistapahtuma
ATTACH;FMTTYPE=image/jpeg:https://hml.adventist.fi/wp-content/uploads/2026/01/armolahja.jpg
END:VEVENT
BEGIN:VEVENT
DTSTART;TZID=Europe/Helsinki:20260317T180000
DTEND;TZID=Europe/Helsinki:20260317T190000
DTSTAMP:20260419T214035
CREATED:20260108T094901Z
LAST-MODIFIED:20260108T120120Z
UID:715-1773770400-1773774000@hml.adventist.fi
SUMMARY:Yhteiskristillinen rukousilta
DESCRIPTION:Yhteiskristillinen rukousilta ti 17.3.2026 klo 18.00 Vapaaseurakunta\, Sibeliuksenkatu 17
URL:https://hml.adventist.fi/tapahtuma/yhteiskristillinen-rukousilta-2/
LOCATION:Hämeenlinnan adventtikirkko\, Tykistötie 13\, Hämeenlinna\, 13100\, Suomi
CATEGORIES:Erikoistapahtuma
ATTACH;FMTTYPE=image/jpeg:https://hml.adventist.fi/wp-content/uploads/2026/01/yhteiskristilliset.jpg
END:VEVENT
BEGIN:VEVENT
DTSTART;TZID=Europe/Helsinki:20260316T180000
DTEND;TZID=Europe/Helsinki:20260316T200000
DTSTAMP:20260419T214035
CREATED:20260108T112432Z
LAST-MODIFIED:20260108T120112Z
UID:853-1773684000-1773691200@hml.adventist.fi
SUMMARY:Armolahjakoulutus 14.-18.3.
DESCRIPTION:Armolahjakoulutus\, kouluttajana Markku Heinänen \nLa 14.3. klo 11.00 – 16.00Su 15.3. – ke 18.3. klo 18.00 – 20.00
URL:https://hml.adventist.fi/tapahtuma/armolahjakoulutus-14-18-3-3/
LOCATION:Hämeenlinnan adventtikirkko\, Tykistötie 13\, Hämeenlinna\, 13100\, Suomi
CATEGORIES:Erikoistapahtuma
ATTACH;FMTTYPE=image/jpeg:https://hml.adventist.fi/wp-content/uploads/2026/01/armolahja.jpg
END:VEVENT
BEGIN:VEVENT
DTSTART;TZID=Europe/Helsinki:20260315T180000
DTEND;TZID=Europe/Helsinki:20260315T200000
DTSTAMP:20260419T214035
CREATED:20260108T112400Z
LAST-MODIFIED:20260108T120131Z
UID:851-1773597600-1773604800@hml.adventist.fi
SUMMARY:Armolahjakoulutus 14.-18.3.
DESCRIPTION:Armolahjakoulutus\, kouluttajana Markku Heinänen \nLa 14.3. klo 11.00 – 16.00Su 15.3. – ke 18.3. klo 18.00 – 20.00
URL:https://hml.adventist.fi/tapahtuma/armolahjakoulutus-14-18-3-2/
LOCATION:Hämeenlinnan adventtikirkko\, Tykistötie 13\, Hämeenlinna\, 13100\, Suomi
CATEGORIES:Erikoistapahtuma
ATTACH;FMTTYPE=image/jpeg:https://hml.adventist.fi/wp-content/uploads/2026/01/armolahja.jpg
END:VEVENT
BEGIN:VEVENT
DTSTART;TZID=Europe/Helsinki:20260314T110000
DTEND;TZID=Europe/Helsinki:20260314T160000
DTSTAMP:20260419T214035
CREATED:20260108T112314Z
LAST-MODIFIED:20260108T120136Z
UID:848-1773486000-1773504000@hml.adventist.fi
SUMMARY:Armolahjakoulutus 14.-18.3.
DESCRIPTION:Armolahjakoulutus\, kouluttajana Markku Heinänen \nLa 14.3. klo 11.00 – 16.00Su 15.3. – ke 18.3. klo 18.00 – 20.00
URL:https://hml.adventist.fi/tapahtuma/armolahjakoulutus-14-18-3/
LOCATION:Hämeenlinnan adventtikirkko\, Tykistötie 13\, Hämeenlinna\, 13100\, Suomi
CATEGORIES:Erikoistapahtuma
ATTACH;FMTTYPE=image/jpeg:https://hml.adventist.fi/wp-content/uploads/2026/01/armolahja.jpg
END:VEVENT
BEGIN:VEVENT
DTSTART;TZID=Europe/Helsinki:20260314T110000
DTEND;TZID=Europe/Helsinki:20260314T130000
DTSTAMP:20260419T214035
CREATED:20260108T100715Z
LAST-MODIFIED:20260108T100716Z
UID:760-1773486000-1773493200@hml.adventist.fi
SUMMARY:Jumalanpalvelus
DESCRIPTION:Jumalanpalvelus\, rukousta\, ylistystä ja puhe Raamatusta
URL:https://hml.adventist.fi/tapahtuma/jumalanpalvelus-10/
LOCATION:Hämeenlinnan adventtikirkko\, Tykistötie 13\, Hämeenlinna\, 13100\, Suomi
CATEGORIES:Viikottain
ATTACH;FMTTYPE=image/jpeg:https://hml.adventist.fi/wp-content/uploads/2022/09/rtjp-kirkko.jpg
END:VEVENT
BEGIN:VEVENT
DTSTART;TZID=Europe/Helsinki:20260311T164500
DTEND;TZID=Europe/Helsinki:20260311T174500
DTSTAMP:20260419T214035
CREATED:20260108T102940Z
LAST-MODIFIED:20260108T102940Z
UID:800-1773247500-1773251100@hml.adventist.fi
SUMMARY:Rukouskokous
DESCRIPTION:Rukouskokous keskiviikkoisin klo 16.45 \nTervetuloa! T. Anna Mantere
URL:https://hml.adventist.fi/tapahtuma/rukouskokous-8/
LOCATION:Hämeenlinnan adventtikirkko\, Tykistötie 13\, Hämeenlinna\, 13100\, Suomi
CATEGORIES:Viikottain
ATTACH;FMTTYPE=image/jpeg:https://hml.adventist.fi/wp-content/uploads/2026/01/rukouskokous.jpg
END:VEVENT
BEGIN:VEVENT
DTSTART;TZID=Europe/Helsinki:20260310T160000
DTEND;TZID=Europe/Helsinki:20260310T170000
DTSTAMP:20260419T214035
CREATED:20260108T095511Z
LAST-MODIFIED:20260108T095511Z
UID:730-1773158400-1773162000@hml.adventist.fi
SUMMARY:Yhteysilta
DESCRIPTION:Yhteysilta tiistaisin klo 16.00\, tavoitteena rukousta ja rakkautta. \nTervetuloa! T. Marja Reinikka
URL:https://hml.adventist.fi/tapahtuma/yhteysilta-9/
LOCATION:Hämeenlinnan adventtikirkko\, Tykistötie 13\, Hämeenlinna\, 13100\, Suomi
CATEGORIES:Viikottain
ATTACH;FMTTYPE=image/jpeg:https://hml.adventist.fi/wp-content/uploads/2023/06/yhteysilta.jpg
END:VEVENT
BEGIN:VEVENT
DTSTART;TZID=Europe/Helsinki:20260307T110000
DTEND;TZID=Europe/Helsinki:20260307T130000
DTSTAMP:20260419T214035
CREATED:20260108T100649Z
LAST-MODIFIED:20260108T100649Z
UID:758-1772881200-1772888400@hml.adventist.fi
SUMMARY:Jumalanpalvelus
DESCRIPTION:Jumalanpalvelus\, rukousta\, ylistystä ja puhe Raamatusta
URL:https://hml.adventist.fi/tapahtuma/jumalanpalvelus-9/
LOCATION:Hämeenlinnan adventtikirkko\, Tykistötie 13\, Hämeenlinna\, 13100\, Suomi
CATEGORIES:Viikottain
ATTACH;FMTTYPE=image/jpeg:https://hml.adventist.fi/wp-content/uploads/2022/09/rtjp-kirkko.jpg
END:VEVENT
BEGIN:VEVENT
DTSTART;TZID=Europe/Helsinki:20260304T164500
DTEND;TZID=Europe/Helsinki:20260304T174500
DTSTAMP:20260419T214035
CREATED:20260108T102910Z
LAST-MODIFIED:20260108T102911Z
UID:798-1772642700-1772646300@hml.adventist.fi
SUMMARY:Rukouskokous
DESCRIPTION:Rukouskokous keskiviikkoisin klo 16.45 \nTervetuloa! T. Anna Mantere
URL:https://hml.adventist.fi/tapahtuma/rukouskokous-7/
LOCATION:Hämeenlinnan adventtikirkko\, Tykistötie 13\, Hämeenlinna\, 13100\, Suomi
CATEGORIES:Viikottain
ATTACH;FMTTYPE=image/jpeg:https://hml.adventist.fi/wp-content/uploads/2026/01/rukouskokous.jpg
END:VEVENT
BEGIN:VEVENT
DTSTART;TZID=Europe/Helsinki:20260303T160000
DTEND;TZID=Europe/Helsinki:20260303T170000
DTSTAMP:20260419T214035
CREATED:20260108T095432Z
LAST-MODIFIED:20260108T095432Z
UID:728-1772553600-1772557200@hml.adventist.fi
SUMMARY:Yhteysilta
DESCRIPTION:Yhteysilta tiistaisin klo 16.00\, tavoitteena rukousta ja rakkautta. \nTervetuloa! T. Marja Reinikka
URL:https://hml.adventist.fi/tapahtuma/yhteysilta-8/
LOCATION:Hämeenlinnan adventtikirkko\, Tykistötie 13\, Hämeenlinna\, 13100\, Suomi
CATEGORIES:Viikottain
ATTACH;FMTTYPE=image/jpeg:https://hml.adventist.fi/wp-content/uploads/2023/06/yhteysilta.jpg
END:VEVENT
BEGIN:VEVENT
DTSTART;TZID=Europe/Helsinki:20260228T110000
DTEND;TZID=Europe/Helsinki:20260228T130000
DTSTAMP:20260419T214035
CREATED:20260108T100558Z
LAST-MODIFIED:20260108T100558Z
UID:756-1772276400-1772283600@hml.adventist.fi
SUMMARY:Jumalanpalvelus
DESCRIPTION:Jumalanpalvelus\, rukousta\, ylistystä ja puhe Raamatusta
URL:https://hml.adventist.fi/tapahtuma/jumalanpalvelus-8/
LOCATION:Hämeenlinnan adventtikirkko\, Tykistötie 13\, Hämeenlinna\, 13100\, Suomi
CATEGORIES:Viikottain
ATTACH;FMTTYPE=image/jpeg:https://hml.adventist.fi/wp-content/uploads/2022/09/rtjp-kirkko.jpg
END:VEVENT
BEGIN:VEVENT
DTSTART;TZID=Europe/Helsinki:20260225T164500
DTEND;TZID=Europe/Helsinki:20260225T174500
DTSTAMP:20260419T214035
CREATED:20260108T102823Z
LAST-MODIFIED:20260108T102823Z
UID:796-1772037900-1772041500@hml.adventist.fi
SUMMARY:Rukouskokous
DESCRIPTION:Rukouskokous keskiviikkoisin klo 16.45 \nTervetuloa! T. Anna Mantere
URL:https://hml.adventist.fi/tapahtuma/rukouskokous-6/
LOCATION:Hämeenlinnan adventtikirkko\, Tykistötie 13\, Hämeenlinna\, 13100\, Suomi
CATEGORIES:Viikottain
ATTACH;FMTTYPE=image/jpeg:https://hml.adventist.fi/wp-content/uploads/2026/01/rukouskokous.jpg
END:VEVENT
BEGIN:VEVENT
DTSTART;TZID=Europe/Helsinki:20260224T160000
DTEND;TZID=Europe/Helsinki:20260224T170000
DTSTAMP:20260419T214035
CREATED:20260108T095400Z
LAST-MODIFIED:20260108T095400Z
UID:726-1771948800-1771952400@hml.adventist.fi
SUMMARY:Yhteysilta
DESCRIPTION:Yhteysilta tiistaisin klo 16.00\, tavoitteena rukousta ja rakkautta. \nTervetuloa! T. Marja Reinikka
URL:https://hml.adventist.fi/tapahtuma/yhteysilta-7/
LOCATION:Hämeenlinnan adventtikirkko\, Tykistötie 13\, Hämeenlinna\, 13100\, Suomi
CATEGORIES:Viikottain
ATTACH;FMTTYPE=image/jpeg:https://hml.adventist.fi/wp-content/uploads/2023/06/yhteysilta.jpg
END:VEVENT
BEGIN:VEVENT
DTSTART;TZID=Europe/Helsinki:20260222T170000
DTEND;TZID=Europe/Helsinki:20260222T172500
DTSTAMP:20260419T214035
CREATED:20260108T105410Z
LAST-MODIFIED:20260108T105411Z
UID:843-1771779600-1771781100@hml.adventist.fi
SUMMARY:Sana elää Radio Deissä
DESCRIPTION:Joel Saarinen ja Orvo Kimmeljärvi keskustelevat aiheesta Elävä usko
URL:https://hml.adventist.fi/tapahtuma/sana-elaa-radio-deissa-7/
LOCATION:Hämeenlinnan adventtikirkko\, Tykistötie 13\, Hämeenlinna\, 13100\, Suomi
CATEGORIES:Viikottain
ATTACH;FMTTYPE=image/jpeg:https://hml.adventist.fi/wp-content/uploads/2026/01/sanaelaa.jpg
END:VEVENT
BEGIN:VEVENT
DTSTART;TZID=Europe/Helsinki:20260221T110000
DTEND;TZID=Europe/Helsinki:20260221T130000
DTSTAMP:20260419T214035
CREATED:20260108T100459Z
LAST-MODIFIED:20260108T100500Z
UID:754-1771671600-1771678800@hml.adventist.fi
SUMMARY:Jumalanpalvelus
DESCRIPTION:Jumalanpalvelus\, rukousta\, ylistystä ja puhe Raamatusta
URL:https://hml.adventist.fi/tapahtuma/jumalanpalvelus-7/
LOCATION:Hämeenlinnan adventtikirkko\, Tykistötie 13\, Hämeenlinna\, 13100\, Suomi
CATEGORIES:Viikottain
ATTACH;FMTTYPE=image/jpeg:https://hml.adventist.fi/wp-content/uploads/2022/09/rtjp-kirkko.jpg
END:VEVENT
BEGIN:VEVENT
DTSTART;TZID=Europe/Helsinki:20260218T164500
DTEND;TZID=Europe/Helsinki:20260218T174500
DTSTAMP:20260419T214035
CREATED:20260108T102748Z
LAST-MODIFIED:20260108T102749Z
UID:794-1771433100-1771436700@hml.adventist.fi
SUMMARY:Rukouskokous
DESCRIPTION:Rukouskokous keskiviikkoisin klo 16.45 \nTervetuloa! T. Anna Mantere
URL:https://hml.adventist.fi/tapahtuma/rukouskokous-5/
LOCATION:Hämeenlinnan adventtikirkko\, Tykistötie 13\, Hämeenlinna\, 13100\, Suomi
CATEGORIES:Viikottain
ATTACH;FMTTYPE=image/jpeg:https://hml.adventist.fi/wp-content/uploads/2026/01/rukouskokous.jpg
END:VEVENT
BEGIN:VEVENT
DTSTART;TZID=Europe/Helsinki:20260217T160000
DTEND;TZID=Europe/Helsinki:20260217T170000
DTSTAMP:20260419T214035
CREATED:20260108T095133Z
LAST-MODIFIED:20260108T095154Z
UID:720-1771344000-1771347600@hml.adventist.fi
SUMMARY:Yhteysilta
DESCRIPTION:Yhteysilta tiistaisin klo 16.00\, tavoitteena rukousta ja rakkautta. \nTervetuloa! T. Marja Reinikka
URL:https://hml.adventist.fi/tapahtuma/yhteysilta-6/
LOCATION:Hämeenlinnan adventtikirkko\, Tykistötie 13\, Hämeenlinna\, 13100\, Suomi
CATEGORIES:Viikottain
ATTACH;FMTTYPE=image/jpeg:https://hml.adventist.fi/wp-content/uploads/2023/06/yhteysilta.jpg
END:VEVENT
BEGIN:VEVENT
DTSTART;TZID=Europe/Helsinki:20260215T170000
DTEND;TZID=Europe/Helsinki:20260215T172500
DTSTAMP:20260419T214035
CREATED:20260108T105333Z
LAST-MODIFIED:20260108T105333Z
UID:841-1771174800-1771176300@hml.adventist.fi
SUMMARY:Sana elää Radio Deissä
DESCRIPTION:Joel Saarinen ja Orvo Kimmeljärvi keskustelevat aiheesta Elävä usko
URL:https://hml.adventist.fi/tapahtuma/sana-elaa-radio-deissa-6/
LOCATION:Hämeenlinnan adventtikirkko\, Tykistötie 13\, Hämeenlinna\, 13100\, Suomi
CATEGORIES:Viikottain
ATTACH;FMTTYPE=image/jpeg:https://hml.adventist.fi/wp-content/uploads/2026/01/sanaelaa.jpg
END:VEVENT
BEGIN:VEVENT
DTSTART;TZID=Europe/Helsinki:20260214T180000
DTEND;TZID=Europe/Helsinki:20260214T193000
DTSTAMP:20260419T214035
CREATED:20260108T113655Z
LAST-MODIFIED:20260108T120145Z
UID:859-1771092000-1771097400@hml.adventist.fi
SUMMARY:Muista ystävää -illanvietto
DESCRIPTION:La 14.2.2026 klo 18.00 ystävänpäivän illanvietto. \nYhdessä ystävinä mukavan ohjelman ja tarjoilun parissa. Kannattaa tulla. \nTervetuloa!
URL:https://hml.adventist.fi/tapahtuma/muista-ystavaa-illanvietto/
LOCATION:Hämeenlinnan adventtikirkko\, Tykistötie 13\, Hämeenlinna\, 13100\, Suomi
CATEGORIES:Erikoistapahtuma
ATTACH;FMTTYPE=image/jpeg:https://hml.adventist.fi/wp-content/uploads/2026/01/ystava.jpg
END:VEVENT
BEGIN:VEVENT
DTSTART;TZID=Europe/Helsinki:20260214T110000
DTEND;TZID=Europe/Helsinki:20260214T130000
DTSTAMP:20260419T214035
CREATED:20260108T100409Z
LAST-MODIFIED:20260108T100410Z
UID:752-1771066800-1771074000@hml.adventist.fi
SUMMARY:Jumalanpalvelus
DESCRIPTION:Jumalanpalvelus\, rukousta\, ylistystä ja puhe Raamatusta
URL:https://hml.adventist.fi/tapahtuma/jumalanpalvelus-6/
LOCATION:Hämeenlinnan adventtikirkko\, Tykistötie 13\, Hämeenlinna\, 13100\, Suomi
CATEGORIES:Viikottain
ATTACH;FMTTYPE=image/jpeg:https://hml.adventist.fi/wp-content/uploads/2022/09/rtjp-kirkko.jpg
END:VEVENT
BEGIN:VEVENT
DTSTART;TZID=Europe/Helsinki:20260211T164500
DTEND;TZID=Europe/Helsinki:20260211T174500
DTSTAMP:20260419T214035
CREATED:20260108T102713Z
LAST-MODIFIED:20260108T102713Z
UID:792-1770828300-1770831900@hml.adventist.fi
SUMMARY:Rukouskokous
DESCRIPTION:Rukouskokous keskiviikkoisin klo 16.45 \nTervetuloa! T. Anna Mantere
URL:https://hml.adventist.fi/tapahtuma/rukouskokous-4/
LOCATION:Hämeenlinnan adventtikirkko\, Tykistötie 13\, Hämeenlinna\, 13100\, Suomi
CATEGORIES:Viikottain
ATTACH;FMTTYPE=image/jpeg:https://hml.adventist.fi/wp-content/uploads/2026/01/rukouskokous.jpg
END:VEVENT
END:VCALENDAR